BEGIN:VCALENDAR
VERSION:2.0
METHOD:PUBLISH
BEGIN:VEVENT
DTSTART:20181020T133000Z
DTEND:20181021T180000Z
LOCATION:Clark, NJ 07066
TRANSP: OPAQUE
SEQUENCE:0
UID:
DTSTAMP:20260425T162559Z
SUMMARY:EASY PICKING IS IN CLARK, NJ FOR A 2 DAY SALE. CLOCKS, CLOCKS AND MORE CLOCKS
DESCRIPTION:EASY PICKING IS IN CLARK, NJ FOR A 2 DAY SALE. CLOCKS, CLOCKS AND MORE CLOCKS Easy Picking Estate Sales 
UID:1777155959
STREET-ADDRESS:See website
POSTAL-CODE:07066
LOCALITY:Clark
REGION:ABBREV=NJ
COUNTRY:ABBREV=US;ABBREV=USA:United States
URL;TYPE=Event Listing:https://estatesales.org/estate-sales/nj/clark/07066/easy-picking-is-in-clark-1579027
PRIORITY:1
CLASS:PUBLIC
SEQUENCE:0
STATUS:CONFIRMED
TRANSP:OPAQUE
END:VEVENT
END:VCALENDAR
