BEGIN:VCALENDAR
VERSION:2.0
METHOD:PUBLISH
BEGIN:VEVENT
DTSTART:20171020T130000Z
DTEND:20171021T210000Z
LOCATION:Lansing, MI 48910
TRANSP: OPAQUE
SEQUENCE:0
UID:
DTSTAMP:20260422T123706Z
SUMMARY:ESTATE SALE: HIROSHIGE ~ VINTAGE STEREO ~ SPEAKERS ~ AUDIO ~ VINYL LP's ~ JAZZ 78's ~ BOOKS ~ ART
DESCRIPTION:ESTATE SALE: HIROSHIGE ~ VINTAGE STEREO ~ SPEAKERS ~ AUDIO ~ VINYL LP's ~ JAZZ 78's ~ BOOKS ~ ART Triola's Estate Sale Service 
UID:1776883026
STREET-ADDRESS:See website
POSTAL-CODE:48910
LOCALITY:Lansing
REGION:ABBREV=MI
COUNTRY:ABBREV=US;ABBREV=USA:United States
URL;TYPE=Event Listing:https://estatesales.org/estate-sales/mi/lansing/48910/estate-sale-hiroshige-vintage-stereo-1432363
PRIORITY:1
CLASS:PUBLIC
SEQUENCE:0
STATUS:CONFIRMED
TRANSP:OPAQUE
END:VEVENT
END:VCALENDAR
