BEGIN:VCALENDAR
VERSION:2.0
METHOD:PUBLISH
BEGIN:VEVENT
DTSTART:20161020T160000Z
DTEND:20161022T220000Z
LOCATION:Aurora, CO 80012
TRANSP: OPAQUE
SEQUENCE:0
UID:
DTSTAMP:20260422T131740Z
SUMMARY:50% OFF - World Traveler Estate Sale
DESCRIPTION:50% OFF - World Traveler Estate Sale TCS Estate Sales 
UID:1776885460
STREET-ADDRESS:See website
POSTAL-CODE:80012
LOCALITY:Aurora
REGION:ABBREV=CO
COUNTRY:ABBREV=US;ABBREV=USA:United States
URL;TYPE=Event Listing:https://estatesales.org/estate-sales/co/aurora/80012/50-off-world-traveler-estate-1008657
PRIORITY:1
CLASS:PUBLIC
SEQUENCE:0
STATUS:CONFIRMED
TRANSP:OPAQUE
END:VEVENT
END:VCALENDAR
