BEGIN:VCALENDAR
VERSION:2.0
METHOD:PUBLISH
BEGIN:VEVENT
DTSTART:20141020T130000Z
DTEND:20141020T040000Z
LOCATION:Berryville, VA 22611
TRANSP: OPAQUE
SEQUENCE:0
UID:
DTSTAMP:20260420T135056Z
SUMMARY:Monday October 20th
DESCRIPTION:Monday October 20th Hash Auctions 
UID:1776714656
STREET-ADDRESS:See website
POSTAL-CODE:22611
LOCALITY:Berryville
REGION:ABBREV=VA
COUNTRY:ABBREV=US;ABBREV=USA:United States
URL;TYPE=Event Listing:https://estatesales.org/estate-sales/va/berryville/22611/monday-october-20th-457843
PRIORITY:1
CLASS:PUBLIC
SEQUENCE:0
STATUS:CONFIRMED
TRANSP:OPAQUE
END:VEVENT
END:VCALENDAR
