BEGIN:VCALENDAR
VERSION:2.0
METHOD:PUBLISH
BEGIN:VEVENT
DTSTART:20251019T150000Z
DTEND:20251019T190000Z
LOCATION:Washington, DC 20008
TRANSP: OPAQUE
SEQUENCE:0
UID:
DTSTAMP:20260424T165450Z
SUMMARY:ONE DAY ONLY - Artist's Condo in DC
DESCRIPTION:ONE DAY ONLY - Artist's Condo in DC Caring Transitions of Washington DC North 
UID:1777071290
STREET-ADDRESS:See website
POSTAL-CODE:20008
LOCALITY:Washington
REGION:ABBREV=DC
COUNTRY:ABBREV=US;ABBREV=USA:United States
URL;TYPE=Event Listing:https://estatesales.org/estate-sales/dc/washington/20008/one-day-only-artists-condo-2407279
PRIORITY:1
CLASS:PUBLIC
SEQUENCE:0
STATUS:CONFIRMED
TRANSP:OPAQUE
END:VEVENT
END:VCALENDAR
