BEGIN:VCALENDAR
VERSION:2.0
METHOD:PUBLISH
BEGIN:VEVENT
DTSTART:20241019T150000Z
DTEND:20241020T200000Z
LOCATION:Chicago, IL 60654
TRANSP: OPAQUE
SEQUENCE:0
UID:
DTSTAMP:20260425T162732Z
SUMMARY:High End Designer Office Liquidation Sale
DESCRIPTION:High End Designer Office Liquidation Sale Meadow Lane Estate Sales 
UID:1777156052
STREET-ADDRESS:See website
POSTAL-CODE:60654
LOCALITY:Chicago
REGION:ABBREV=IL
COUNTRY:ABBREV=US;ABBREV=USA:United States
URL;TYPE=Event Listing:https://estatesales.org/estate-sales/il/chicago/60654/high-end-designer-office-liquidation-2345714
PRIORITY:1
CLASS:PUBLIC
SEQUENCE:0
STATUS:CONFIRMED
TRANSP:OPAQUE
END:VEVENT
END:VCALENDAR
