BEGIN:VCALENDAR
VERSION:2.0
METHOD:PUBLISH
BEGIN:VEVENT
DTSTART:20241019T150000Z
DTEND:20241020T220000Z
LOCATION:Oklahoma City, OK 73162
TRANSP: OPAQUE
SEQUENCE:0
UID:
DTSTAMP:20260425T194637Z
SUMMARY:It’s Christmas in Warwick Place! Presented by Precious Possessions Estate Sales!
DESCRIPTION:It’s Christmas in Warwick Place! Presented by Precious Possessions Estate Sales! Precious Possessions Estate Sales 
UID:1777167997
STREET-ADDRESS:See website
POSTAL-CODE:73162
LOCALITY:Oklahoma City
REGION:ABBREV=OK
COUNTRY:ABBREV=US;ABBREV=USA:United States
URL;TYPE=Event Listing:https://estatesales.org/estate-sales/ok/oklahoma-city/73162/its-christmas-in-warwick-place-2345328
PRIORITY:1
CLASS:PUBLIC
SEQUENCE:0
STATUS:CONFIRMED
TRANSP:OPAQUE
END:VEVENT
END:VCALENDAR
