BEGIN:VCALENDAR
VERSION:2.0
METHOD:PUBLISH
BEGIN:VEVENT
DTSTART:20191019T130000Z
DTEND:20191019T190000Z
LOCATION:Forestdale, MA 02644
TRANSP: OPAQUE
SEQUENCE:0
UID:
DTSTAMP:20260420T012553Z
SUMMARY:Forestdale MA Estate Sale - Furnitire - Glassware - Vintage - MCM - Arts & Crafts - Pottery - Christmas -  Clown Collection - Wooden Carousel Horse - LGB trains & More
DESCRIPTION:Forestdale MA Estate Sale - Furnitire - Glassware - Vintage - MCM - Arts & Crafts - Pottery - Christmas -  Clown Collection - Wooden Carousel Horse - LGB trains & More Lattuca Estate Services 
UID:1776669953
STREET-ADDRESS:See website
POSTAL-CODE:02644
LOCALITY:Forestdale
REGION:ABBREV=MA
COUNTRY:ABBREV=US;ABBREV=USA:United States
URL;TYPE=Event Listing:https://estatesales.org/estate-sales/ma/forestdale-/02644/forestdale-ma-estate-sale-furnitire-1729437
PRIORITY:1
CLASS:PUBLIC
SEQUENCE:0
STATUS:CONFIRMED
TRANSP:OPAQUE
END:VEVENT
END:VCALENDAR
