BEGIN:VCALENDAR
VERSION:2.0
METHOD:PUBLISH
BEGIN:VEVENT
DTSTART:20191019T120000Z
DTEND:20191020T180000Z
LOCATION:Chesterfield, VA 23838
TRANSP: OPAQUE
SEQUENCE:0
UID:
DTSTAMP:20260424T011602Z
SUMMARY:Immaculate Estate Sale With Vast Variety of Items
DESCRIPTION:Immaculate Estate Sale With Vast Variety of Items Goose & Co. Estate Sales 
UID:1777014962
STREET-ADDRESS:See website
POSTAL-CODE:23838
LOCALITY:Chesterfield
REGION:ABBREV=VA
COUNTRY:ABBREV=US;ABBREV=USA:United States
URL;TYPE=Event Listing:https://estatesales.org/estate-sales/va/chesterfield/23838/immaculate-estate-sale-with-vast-1726457
PRIORITY:1
CLASS:PUBLIC
SEQUENCE:0
STATUS:CONFIRMED
TRANSP:OPAQUE
END:VEVENT
END:VCALENDAR
