BEGIN:VCALENDAR
VERSION:2.0
METHOD:PUBLISH
BEGIN:VEVENT
DTSTART:20181019T160000Z
DTEND:20181021T200000Z
LOCATION:Charlottesville, VA 22903
TRANSP: OPAQUE
SEQUENCE:0
UID:
DTSTAMP:20260423T203437Z
SUMMARY:Vintage Charm in Charlottesville
DESCRIPTION:Vintage Charm in Charlottesville Estate Sales and Services LLC 
UID:1776998077
STREET-ADDRESS:See website
POSTAL-CODE:22903
LOCALITY:Charlottesville
REGION:ABBREV=VA
COUNTRY:ABBREV=US;ABBREV=USA:United States
URL;TYPE=Event Listing:https://estatesales.org/estate-sales/va/charlottesville/22903/vintage-charm-in-charlottesville-1583577
PRIORITY:1
CLASS:PUBLIC
SEQUENCE:0
STATUS:CONFIRMED
TRANSP:OPAQUE
END:VEVENT
END:VCALENDAR
