BEGIN:VCALENDAR
VERSION:2.0
METHOD:PUBLISH
BEGIN:VEVENT
DTSTART:20251018T150000Z
DTEND:20251019T200000Z
LOCATION:Highland Park, IL 60035
TRANSP: OPAQUE
SEQUENCE:0
UID:
DTSTAMP:20260425T162711Z
SUMMARY:Style in the Fort - Commanding Elegance!
DESCRIPTION:Style in the Fort - Commanding Elegance! Meadow Lane Estate Sales 
UID:1777156031
STREET-ADDRESS:See website
POSTAL-CODE:60035
LOCALITY:Highland Park
REGION:ABBREV=IL
COUNTRY:ABBREV=US;ABBREV=USA:United States
URL;TYPE=Event Listing:https://estatesales.org/estate-sales/il/highland-park/60035/style-in-the-fort-commanding-2407755
PRIORITY:1
CLASS:PUBLIC
SEQUENCE:0
STATUS:CONFIRMED
TRANSP:OPAQUE
END:VEVENT
END:VCALENDAR
