BEGIN:VCALENDAR
VERSION:2.0
METHOD:PUBLISH
BEGIN:VEVENT
DTSTART:20251018T150000Z
DTEND:20251019T200000Z
LOCATION:Conroe, TX 77304
TRANSP: OPAQUE
SEQUENCE:0
UID:
DTSTAMP:20260419T161637Z
SUMMARY:Conroe Estate Sale!!! 50% OFF EVERYTHING!!!
DESCRIPTION:Conroe Estate Sale!!! 50% OFF EVERYTHING!!! Elite Estate Sales Inc 
UID:1776636997
STREET-ADDRESS:See website
POSTAL-CODE:77304
LOCALITY:Conroe
REGION:ABBREV=TX
COUNTRY:ABBREV=US;ABBREV=USA:United States
URL;TYPE=Event Listing:https://estatesales.org/estate-sales/tx/conroe/77304/conroe-estate-sale-50-off-2406884
PRIORITY:1
CLASS:PUBLIC
SEQUENCE:0
STATUS:CONFIRMED
TRANSP:OPAQUE
END:VEVENT
END:VCALENDAR
