BEGIN:VCALENDAR
VERSION:2.0
METHOD:PUBLISH
BEGIN:VEVENT
DTSTART:20241018T160000Z
DTEND:20241020T200000Z
LOCATION:Scottsville, VA 24590
TRANSP: OPAQUE
SEQUENCE:0
UID:
DTSTAMP:20260423T203435Z
SUMMARY:Historic Estate Sale
DESCRIPTION:Historic Estate Sale Estate Sales and Services LLC 
UID:1776998075
STREET-ADDRESS:See website
POSTAL-CODE:24590
LOCALITY:Scottsville
REGION:ABBREV=VA
COUNTRY:ABBREV=US;ABBREV=USA:United States
URL;TYPE=Event Listing:https://estatesales.org/estate-sales/va/scottsville/24590/historic-estate-sale-2344380
PRIORITY:1
CLASS:PUBLIC
SEQUENCE:0
STATUS:CONFIRMED
TRANSP:OPAQUE
END:VEVENT
END:VCALENDAR
