BEGIN:VCALENDAR
VERSION:2.0
METHOD:PUBLISH
BEGIN:VEVENT
DTSTART:20241018T140000Z
DTEND:20241019T210000Z
LOCATION:Appleton, WI 54915
TRANSP: OPAQUE
SEQUENCE:0
UID:
DTSTAMP:20260423T101635Z
SUMMARY:Appleton Estate Sale by "The Missing Piece" - FRI 10/18 - SAT 10/19 - 9AM (Limited Entry Friday Morning)
DESCRIPTION:Appleton Estate Sale by "The Missing Piece" - FRI 10/18 - SAT 10/19 - 9AM (Limited Entry Friday Morning) Greg Willett Antiques and Estate Sales 
UID:1776960995
STREET-ADDRESS:See website
POSTAL-CODE:54915
LOCALITY:Appleton
REGION:ABBREV=WI
COUNTRY:ABBREV=US;ABBREV=USA:United States
URL;TYPE=Event Listing:https://estatesales.org/estate-sales/wi/appleton/54915/appleton-estate-sale-by-the-2344856
PRIORITY:1
CLASS:PUBLIC
SEQUENCE:0
STATUS:CONFIRMED
TRANSP:OPAQUE
END:VEVENT
END:VCALENDAR
