BEGIN:VCALENDAR
VERSION:2.0
METHOD:PUBLISH
BEGIN:VEVENT
DTSTART:20241018T150000Z
DTEND:20241019T200000Z
LOCATION:Richland, WA 99352
TRANSP: OPAQUE
SEQUENCE:0
UID:
DTSTAMP:20260419T144038Z
SUMMARY:Willowbrook Living Estate Sale
DESCRIPTION:Willowbrook Living Estate Sale Caring Transitions of Greater Tri-Cities 
UID:1776631238
STREET-ADDRESS:See website
POSTAL-CODE:99352
LOCALITY:Richland
REGION:ABBREV=WA
COUNTRY:ABBREV=US;ABBREV=USA:United States
URL;TYPE=Event Listing:https://estatesales.org/estate-sales/wa/richland/99352/willowbrook-living-estate-sale-2344891
PRIORITY:1
CLASS:PUBLIC
SEQUENCE:0
STATUS:CONFIRMED
TRANSP:OPAQUE
END:VEVENT
END:VCALENDAR
