BEGIN:VCALENDAR
VERSION:2.0
METHOD:PUBLISH
BEGIN:VEVENT
DTSTART:20241018T150000Z
DTEND:20241020T220000Z
LOCATION:Riverside, CA 92507
TRANSP: OPAQUE
SEQUENCE:0
UID:
DTSTAMP:20260419T223742Z
SUMMARY:Great Riverside Sale with Something for Everyone!
DESCRIPTION:Great Riverside Sale with Something for Everyone! Estate Sales by Dee 
UID:1776659862
STREET-ADDRESS:See website
POSTAL-CODE:92507
LOCALITY:Riverside
REGION:ABBREV=CA
COUNTRY:ABBREV=US;ABBREV=USA:United States
URL;TYPE=Event Listing:https://estatesales.org/estate-sales/ca/riverside/92507/great-riverside-sale-with-something-2345057
PRIORITY:1
CLASS:PUBLIC
SEQUENCE:0
STATUS:CONFIRMED
TRANSP:OPAQUE
END:VEVENT
END:VCALENDAR
