BEGIN:VCALENDAR
VERSION:2.0
METHOD:PUBLISH
BEGIN:VEVENT
DTSTART:20241018T150000Z
DTEND:20241019T190000Z
LOCATION:Sun City, AZ 85351
TRANSP: OPAQUE
SEQUENCE:0
UID:
DTSTAMP:20260419T194948Z
SUMMARY:Sun City Estate Sale: War & Civil War Books
DESCRIPTION:Sun City Estate Sale: War & Civil War Books Arizona Finds 
UID:1776649788
STREET-ADDRESS:See website
POSTAL-CODE:85351
LOCALITY:Sun City
REGION:ABBREV=AZ
COUNTRY:ABBREV=US;ABBREV=USA:United States
URL;TYPE=Event Listing:https://estatesales.org/estate-sales/az/sun-city/85351/sun-city-estate-sale-war-2344688
PRIORITY:1
CLASS:PUBLIC
SEQUENCE:0
STATUS:CONFIRMED
TRANSP:OPAQUE
END:VEVENT
END:VCALENDAR
