BEGIN:VCALENDAR
VERSION:2.0
METHOD:PUBLISH
BEGIN:VEVENT
DTSTART:20131018T130000Z
DTEND:20131019T190000Z
LOCATION:Plano, TX 75074
TRANSP: OPAQUE
SEQUENCE:0
UID:
DTSTAMP:20260425T122554Z
SUMMARY:FURNITURE FANDANGO and COOL GIFTS in PLANO!
DESCRIPTION:FURNITURE FANDANGO and COOL GIFTS in PLANO! Blue Moon Estates - Estate Sales, Events &amp; Services 
UID:1777141554
STREET-ADDRESS:See website
POSTAL-CODE:75074
LOCALITY:Plano
REGION:ABBREV=TX
COUNTRY:ABBREV=US;ABBREV=USA:United States
URL;TYPE=Event Listing:https://estatesales.org/estate-sales/tx/plano/75074/furniture-fandango-and-cool-gifts-334742
PRIORITY:1
CLASS:PUBLIC
SEQUENCE:0
STATUS:CONFIRMED
TRANSP:OPAQUE
END:VEVENT
END:VCALENDAR
