BEGIN:VCALENDAR
VERSION:2.0
METHOD:PUBLISH
BEGIN:VEVENT
DTSTART:20251017T140000Z
DTEND:20251019T190000Z
LOCATION:Norfolk, VA 23517
TRANSP: OPAQUE
SEQUENCE:0
UID:
DTSTAMP:20260421T032608Z
SUMMARY:3 DAY ESTATE SALE 10/17-18-19 AT 608 W PRINCESS ANNE RD., NORFOLK
DESCRIPTION:3 DAY ESTATE SALE 10/17-18-19 AT 608 W PRINCESS ANNE RD., NORFOLK Randy's Auction Gallery Ltd. 
UID:1776763568
STREET-ADDRESS:See website
POSTAL-CODE:23517
LOCALITY:Norfolk
REGION:ABBREV=VA
COUNTRY:ABBREV=US;ABBREV=USA:United States
URL;TYPE=Event Listing:https://estatesales.org/estate-sales/va/norfolk/23517/3-day-estate-sale-10171819-2405456
PRIORITY:1
CLASS:PUBLIC
SEQUENCE:0
STATUS:CONFIRMED
TRANSP:OPAQUE
END:VEVENT
END:VCALENDAR
