BEGIN:VCALENDAR
VERSION:2.0
METHOD:PUBLISH
BEGIN:VEVENT
DTSTART:20251017T160000Z
DTEND:20251019T210000Z
LOCATION:Duarte, CA 91010
TRANSP: OPAQUE
SEQUENCE:0
UID:
DTSTAMP:20260424T175441Z
SUMMARY:Spectacular sale in Duarte by Grasons Prestige Estate Sales, Featuring Incredible Designer Pieces
DESCRIPTION:Spectacular sale in Duarte by Grasons Prestige Estate Sales, Featuring Incredible Designer Pieces Grasons Co Prestige Pasadena & Territories  
UID:1777074881
STREET-ADDRESS:See website
POSTAL-CODE:91010
LOCALITY:Duarte
REGION:ABBREV=CA
COUNTRY:ABBREV=US;ABBREV=USA:United States
URL;TYPE=Event Listing:https://estatesales.org/estate-sales/ca/duarte/91010/spectacular-sale-in-duarte-by-2405464
PRIORITY:1
CLASS:PUBLIC
SEQUENCE:0
STATUS:CONFIRMED
TRANSP:OPAQUE
END:VEVENT
END:VCALENDAR
