BEGIN:VCALENDAR
VERSION:2.0
METHOD:PUBLISH
BEGIN:VEVENT
DTSTART:20251017T130000Z
DTEND:20251017T180000Z
LOCATION:Louisville, KY 40205
TRANSP: OPAQUE
SEQUENCE:0
UID:
DTSTAMP:20260421T210441Z
SUMMARY:Fast Finds and Great Deals at This Louisville Estate Sale Presented by Aether
DESCRIPTION:Fast Finds and Great Deals at This Louisville Estate Sale Presented by Aether Aether Estate Sales Co.  
UID:1776827081
STREET-ADDRESS:See website
POSTAL-CODE:40205
LOCALITY:Louisville
REGION:ABBREV=KY
COUNTRY:ABBREV=US;ABBREV=USA:United States
URL;TYPE=Event Listing:https://estatesales.org/estate-sales/ky/louisville/40205/fast-finds-and-great-deals-2405978
PRIORITY:1
CLASS:PUBLIC
SEQUENCE:0
STATUS:CONFIRMED
TRANSP:OPAQUE
END:VEVENT
END:VCALENDAR
