BEGIN:VCALENDAR
VERSION:2.0
METHOD:PUBLISH
BEGIN:VEVENT
DTSTART:20251017T120000Z
DTEND:20251018T180000Z
LOCATION:Berlin, CT 06037
TRANSP: OPAQUE
SEQUENCE:0
UID:
DTSTAMP:20260425T152509Z
SUMMARY:Berlin Time Capsule Estate Sale
DESCRIPTION:Berlin Time Capsule Estate Sale Sean Mahoney Estate Sales LLC 
UID:1777152309
STREET-ADDRESS:See website
POSTAL-CODE:06037
LOCALITY:Berlin
REGION:ABBREV=CT
COUNTRY:ABBREV=US;ABBREV=USA:United States
URL;TYPE=Event Listing:https://estatesales.org/estate-sales/ct/berlin/06037/berlin-time-capsule-estate-sale-2407100
PRIORITY:1
CLASS:PUBLIC
SEQUENCE:0
STATUS:CONFIRMED
TRANSP:OPAQUE
END:VEVENT
END:VCALENDAR
