BEGIN:VCALENDAR
VERSION:2.0
METHOD:PUBLISH
BEGIN:VEVENT
DTSTART:20251017T150000Z
DTEND:20251018T210000Z
LOCATION:Tucson, AZ 85739
TRANSP: OPAQUE
SEQUENCE:0
UID:
DTSTAMP:20260421T195451Z
SUMMARY:Grasons 50% off Saturday October 18th in Saddlebrooke #2
DESCRIPTION:Grasons 50% off Saturday October 18th in Saddlebrooke #2 Grasons Co of Southern Arizona 
UID:1776822891
STREET-ADDRESS:See website
POSTAL-CODE:85739
LOCALITY:Tucson
REGION:ABBREV=AZ
COUNTRY:ABBREV=US;ABBREV=USA:United States
URL;TYPE=Event Listing:https://estatesales.org/estate-sales/az/tucson/85739/grasons-50-off-saturday-october-2406795
PRIORITY:1
CLASS:PUBLIC
SEQUENCE:0
STATUS:CONFIRMED
TRANSP:OPAQUE
END:VEVENT
END:VCALENDAR
