BEGIN:VCALENDAR
VERSION:2.0
METHOD:PUBLISH
BEGIN:VEVENT
DTSTART:20221017T140000Z
DTEND:20221017T170000Z
LOCATION:Sanford, FL 32773
TRANSP: OPAQUE
SEQUENCE:0
UID:
DTSTAMP:20260419T122032Z
SUMMARY:60% off MONDAY BLOWOUT-Estate Sale in Sanford-Estate Sales In Orlando
DESCRIPTION:60% off MONDAY BLOWOUT-Estate Sale in Sanford-Estate Sales In Orlando Estate Sale Stars 
UID:1776622832
STREET-ADDRESS:See website
POSTAL-CODE:32773
LOCALITY:Sanford
REGION:ABBREV=FL
COUNTRY:ABBREV=US;ABBREV=USA:United States
URL;TYPE=Event Listing:https://estatesales.org/estate-sales/fl/sanford/32773/60-off-monday-blowoutestate-sale-2095437
PRIORITY:1
CLASS:PUBLIC
SEQUENCE:0
STATUS:CONFIRMED
TRANSP:OPAQUE
END:VEVENT
END:VCALENDAR
