BEGIN:VCALENDAR
VERSION:2.0
METHOD:PUBLISH
BEGIN:VEVENT
DTSTART:20201017T160000Z
DTEND:20201018T210000Z
LOCATION:Downey, CA 90240
TRANSP: OPAQUE
SEQUENCE:0
UID:
DTSTAMP:20260420T011951Z
SUMMARY:Grasons Integrity Part 2 Downey Estate Sale 
DESCRIPTION:Grasons Integrity Part 2 Downey Estate Sale  Grasons Co Integrity Estate Sale Services 
UID:1776669591
STREET-ADDRESS:See website
POSTAL-CODE:90240
LOCALITY:Downey
REGION:ABBREV=CA
COUNTRY:ABBREV=US;ABBREV=USA:United States
URL;TYPE=Event Listing:https://estatesales.org/estate-sales/ca/downey/90240/grasons-integrity-part-2-downey-1835489
PRIORITY:1
CLASS:PUBLIC
SEQUENCE:0
STATUS:CONFIRMED
TRANSP:OPAQUE
END:VEVENT
END:VCALENDAR
