BEGIN:VCALENDAR
VERSION:2.0
METHOD:PUBLISH
BEGIN:VEVENT
DTSTART:20191017T160000Z
DTEND:20191020T220000Z
LOCATION:Sacramento, CA 95816
TRANSP: OPAQUE
SEQUENCE:0
UID:
DTSTAMP:20260421T115706Z
SUMMARY:Midtown Sacramento Antique Estate Sale
DESCRIPTION:Midtown Sacramento Antique Estate Sale Calder Estate Sales and Liquidators 
UID:1776794226
STREET-ADDRESS:See website
POSTAL-CODE:95816
LOCALITY:Sacramento
REGION:ABBREV=CA
COUNTRY:ABBREV=US;ABBREV=USA:United States
URL;TYPE=Event Listing:https://estatesales.org/estate-sales/ca/sacramento/95816/midtown-sacramento-antique-estate-sale-1720325
PRIORITY:1
CLASS:PUBLIC
SEQUENCE:0
STATUS:CONFIRMED
TRANSP:OPAQUE
END:VEVENT
END:VCALENDAR
