BEGIN:VCALENDAR
VERSION:2.0
METHOD:PUBLISH
BEGIN:VEVENT
DTSTART:20251016T130000Z
DTEND:20251019T170000Z
LOCATION:Tampa, FL 33618
TRANSP: OPAQUE
SEQUENCE:0
UID:
DTSTAMP:20260423T094744Z
SUMMARY:BABYBOOMERS CARROLLWOOD LUXURY ESTATE SALE
DESCRIPTION:BABYBOOMERS CARROLLWOOD LUXURY ESTATE SALE Baby Boomers Estate Sales 
UID:1776959264
STREET-ADDRESS:See website
POSTAL-CODE:33618
LOCALITY:Tampa
REGION:ABBREV=FL
COUNTRY:ABBREV=US;ABBREV=USA:United States
URL;TYPE=Event Listing:https://estatesales.org/estate-sales/fl/tampa/33618/babyboomers-carrollwood-luxury-estate-sale-2405716
PRIORITY:1
CLASS:PUBLIC
SEQUENCE:0
STATUS:CONFIRMED
TRANSP:OPAQUE
END:VEVENT
END:VCALENDAR
