BEGIN:VCALENDAR
VERSION:2.0
METHOD:PUBLISH
BEGIN:VEVENT
DTSTART:20251016T173000Z
DTEND:20251017T210000Z
LOCATION:Seneca, SC 29678
TRANSP: OPAQUE
SEQUENCE:0
UID:
DTSTAMP:20260421T193428Z
SUMMARY:Antiques and antique dolls!. (Read Carefully)
DESCRIPTION:Antiques and antique dolls!. (Read Carefully) Carriage House Estate Sales 
UID:1776821668
STREET-ADDRESS:See website
POSTAL-CODE:29678
LOCALITY:Seneca
REGION:ABBREV=SC
COUNTRY:ABBREV=US;ABBREV=USA:United States
URL;TYPE=Event Listing:https://estatesales.org/estate-sales/sc/seneca/29678/antiques-and-antique-dolls-read-2405501
PRIORITY:1
CLASS:PUBLIC
SEQUENCE:0
STATUS:CONFIRMED
TRANSP:OPAQUE
END:VEVENT
END:VCALENDAR
