BEGIN:VCALENDAR
VERSION:2.0
METHOD:PUBLISH
BEGIN:VEVENT
DTSTART:20201016T150000Z
DTEND:20201021T000000Z
LOCATION:Walnut, CA 92764
TRANSP: OPAQUE
SEQUENCE:0
UID:
DTSTAMP:20260425T055134Z
SUMMARY:Ethan Allen›ŒPottery Barn›‹Crate &BarrelšªDesigner Furnishings LOT for sale!
DESCRIPTION:Ethan Allen›ŒPottery Barn›‹Crate &BarrelšªDesigner Furnishings LOT for sale! Sweet Memories 
UID:1777117894
STREET-ADDRESS:See website
POSTAL-CODE:92764
LOCALITY:Walnut
REGION:ABBREV=CA
COUNTRY:ABBREV=US;ABBREV=USA:United States
URL;TYPE=Event Listing:https://estatesales.org/estate-sales/ca/walnut/92764/ethan-allenpottery-barncrate-barreldesigner-furnishings-1836749
PRIORITY:1
CLASS:PUBLIC
SEQUENCE:0
STATUS:CONFIRMED
TRANSP:OPAQUE
END:VEVENT
END:VCALENDAR
