BEGIN:VCALENDAR
VERSION:2.0
METHOD:PUBLISH
BEGIN:VEVENT
DTSTART:20151016T160000Z
DTEND:20151017T210000Z
LOCATION:Sagaponack, NY 11962
TRANSP: OPAQUE
SEQUENCE:0
UID:
DTSTAMP:20260423T224647Z
SUMMARY:HIGH QUALITY EUROPEAN, ANTIQUES & MORE!
DESCRIPTION:HIGH QUALITY EUROPEAN, ANTIQUES & MORE! re.luxeHamptons 
UID:1777006007
STREET-ADDRESS:See website
POSTAL-CODE:11962
LOCALITY:Sagaponack
REGION:ABBREV=NY
COUNTRY:ABBREV=US;ABBREV=USA:United States
URL;TYPE=Event Listing:https://estatesales.org/estate-sales/ny/sagaponack/11962/high-quality-european-antiques-more-702201
PRIORITY:1
CLASS:PUBLIC
SEQUENCE:0
STATUS:CONFIRMED
TRANSP:OPAQUE
END:VEVENT
END:VCALENDAR
