BEGIN:VCALENDAR
VERSION:2.0
METHOD:PUBLISH
BEGIN:VEVENT
DTSTART:20151016T150000Z
DTEND:20151017T190000Z
LOCATION:Elizabethtown, NC 28337
TRANSP: OPAQUE
SEQUENCE:0
UID:
DTSTAMP:20260422T120330Z
SUMMARY:Elizabethtown Blue Moon Estate Sale - CHRISTMAS IN OCTOBER
DESCRIPTION:Elizabethtown Blue Moon Estate Sale - CHRISTMAS IN OCTOBER Blue Moon Estate Sales of Coastal North Carolina 
UID:1776881010
STREET-ADDRESS:See website
POSTAL-CODE:28337
LOCALITY:Elizabethtown
REGION:ABBREV=NC
COUNTRY:ABBREV=US;ABBREV=USA:United States
URL;TYPE=Event Listing:https://estatesales.org/estate-sales/nc/elizabethtown/28337/elizabethtown-blue-moon-estate-sale-664963
PRIORITY:1
CLASS:PUBLIC
SEQUENCE:0
STATUS:CONFIRMED
TRANSP:OPAQUE
END:VEVENT
END:VCALENDAR
