BEGIN:VCALENDAR
VERSION:2.0
METHOD:PUBLISH
BEGIN:VEVENT
DTSTART:20151016T150000Z
DTEND:20151018T210000Z
LOCATION:Brookfield, WI 53005
TRANSP: OPAQUE
SEQUENCE:0
UID:
DTSTAMP:20260420T030236Z
SUMMARY:Brookfield Downsizing Sale=High End Antiques-Glass-Lamps-Furniture
DESCRIPTION:Brookfield Downsizing Sale=High End Antiques-Glass-Lamps-Furniture All in the Family Estate Sales 
UID:1776675756
STREET-ADDRESS:See website
POSTAL-CODE:53005
LOCALITY:Brookfield
REGION:ABBREV=WI
COUNTRY:ABBREV=US;ABBREV=USA:United States
URL;TYPE=Event Listing:https://estatesales.org/estate-sales/wi/brookfield/53005/brookfield-downsizing-salehigh-end-antiquesglasslampsfurniture-700471
PRIORITY:1
CLASS:PUBLIC
SEQUENCE:0
STATUS:CONFIRMED
TRANSP:OPAQUE
END:VEVENT
END:VCALENDAR
