BEGIN:VCALENDAR
VERSION:2.0
METHOD:PUBLISH
BEGIN:VEVENT
DTSTART:20151016T160000Z
DTEND:20151017T220000Z
LOCATION:Carmichael, CA 95608
TRANSP: OPAQUE
SEQUENCE:0
UID:
DTSTAMP:20260421T115630Z
SUMMARY:New Life Estate Sales presents Pristine Estate Sale
DESCRIPTION:New Life Estate Sales presents Pristine Estate Sale Calder Estate Sales and Liquidators 
UID:1776794190
STREET-ADDRESS:See website
POSTAL-CODE:95608
LOCALITY:Carmichael
REGION:ABBREV=CA
COUNTRY:ABBREV=US;ABBREV=USA:United States
URL;TYPE=Event Listing:https://estatesales.org/estate-sales/ca/carmichael/95608/new-life-estate-sales-presents-702755
PRIORITY:1
CLASS:PUBLIC
SEQUENCE:0
STATUS:CONFIRMED
TRANSP:OPAQUE
END:VEVENT
END:VCALENDAR
