BEGIN:VCALENDAR
VERSION:2.0
METHOD:PUBLISH
BEGIN:VEVENT
DTSTART:20151016T100000Z
DTEND:20151021T000000Z
LOCATION:By appointment only.
TRANSP: OPAQUE
SEQUENCE:0
UID:
DTSTAMP:20260421T055310Z
SUMMARY:CTOnline Auction in Bloomfield Hills, MI
DESCRIPTION:CTOnline Auction in Bloomfield Hills, MI Caring Transitions of Oakland County MI 
UID:1776772390
STREET-ADDRESS:See website
POSTAL-CODE:48304
LOCALITY:Bloomfield Hills
REGION:ABBREV=MI
COUNTRY:ABBREV=US;ABBREV=USA:United States
URL;TYPE=Event Listing:https://estatesales.org/estate-sales/mi/bloomfield-hills/48304/ctonline-auction-in-bloomfield-hills-702241
PRIORITY:1
CLASS:PUBLIC
SEQUENCE:0
STATUS:CONFIRMED
TRANSP:OPAQUE
END:VEVENT
END:VCALENDAR
