BEGIN:VCALENDAR
VERSION:2.0
METHOD:PUBLISH
BEGIN:VEVENT
DTSTART:20211015T170000Z
DTEND:20211017T220000Z
LOCATION:Los Angeles, CA 90731
TRANSP: OPAQUE
SEQUENCE:0
UID:
DTSTAMP:20260424T012425Z
SUMMARY:Treasures of the World (and a Grand Chandelier) !! Friday October 15th - Sunday 17th, 10am - 3pm.
DESCRIPTION:Treasures of the World (and a Grand Chandelier) !! Friday October 15th - Sunday 17th, 10am - 3pm. Diamond Heirlooms Estate Sales & Consulting  LLC 
UID:1777015465
STREET-ADDRESS:See website
POSTAL-CODE:90731
LOCALITY:Los Angeles
REGION:ABBREV=CA
COUNTRY:ABBREV=US;ABBREV=USA:United States
URL;TYPE=Event Listing:https://estatesales.org/estate-sales/ca/los-angeles/90731/treasures-of-the-world-and-1953413
PRIORITY:1
CLASS:PUBLIC
SEQUENCE:0
STATUS:CONFIRMED
TRANSP:OPAQUE
END:VEVENT
END:VCALENDAR
