BEGIN:VCALENDAR
VERSION:2.0
METHOD:PUBLISH
BEGIN:VEVENT
DTSTART:20211015T140000Z
DTEND:20211017T200000Z
LOCATION:Madison, WI 53717
TRANSP: OPAQUE
SEQUENCE:0
UID:
DTSTAMP:20260424T200453Z
SUMMARY:MULTI-GEN ESTATE SALE 10/15, 10/16 & 10/17 (Madison)
DESCRIPTION:MULTI-GEN ESTATE SALE 10/15, 10/16 & 10/17 (Madison) Barth Estate Sales & Services LLC 
UID:1777082693
STREET-ADDRESS:See website
POSTAL-CODE:53717
LOCALITY:Madison
REGION:ABBREV=WI
COUNTRY:ABBREV=US;ABBREV=USA:United States
URL;TYPE=Event Listing:https://estatesales.org/estate-sales/wi/madison/53717/multigen-estate-sale-1015-1016-1969985
PRIORITY:1
CLASS:PUBLIC
SEQUENCE:0
STATUS:CONFIRMED
TRANSP:OPAQUE
END:VEVENT
END:VCALENDAR
