BEGIN:VCALENDAR
VERSION:2.0
METHOD:PUBLISH
BEGIN:VEVENT
DTSTART:20241014T140000Z
DTEND:20241014T210000Z
LOCATION:Miami, FL 33185
TRANSP: OPAQUE
SEQUENCE:0
UID:
DTSTAMP:20260421T140249Z
SUMMARY:COLUMBUS DAY ONE DAY ONLY ESTATE AUCTION
DESCRIPTION:COLUMBUS DAY ONE DAY ONLY ESTATE AUCTION Auction Company of America 
UID:1776801769
STREET-ADDRESS:See website
POSTAL-CODE:33185
LOCALITY:Miami
REGION:ABBREV=FL
COUNTRY:ABBREV=US;ABBREV=USA:United States
URL;TYPE=Event Listing:https://estatesales.org/estate-sales/fl/miami/33185/columbus-day-one-day-only-2343383
PRIORITY:1
CLASS:PUBLIC
SEQUENCE:0
STATUS:CONFIRMED
TRANSP:OPAQUE
END:VEVENT
END:VCALENDAR
