BEGIN:VCALENDAR
VERSION:2.0
METHOD:PUBLISH
BEGIN:VEVENT
DTSTART:20231014T160000Z
DTEND:20231015T210000Z
LOCATION:Glendale, CA 91201
TRANSP: OPAQUE
SEQUENCE:0
UID:
DTSTAMP:20260420T021113Z
SUMMARY:Deals On All Remaining Items:   Disney, 1000 records, Posters., Hummel, Rare Items, Cartoon Glassware, Coke a Cola and Ton more
DESCRIPTION:Deals On All Remaining Items:   Disney, 1000 records, Posters., Hummel, Rare Items, Cartoon Glassware, Coke a Cola and Ton more Triumphant Estate Sales of Los Angeles 
UID:1776672673
STREET-ADDRESS:See website
POSTAL-CODE:91201
LOCALITY:Glendale
REGION:ABBREV=CA
COUNTRY:ABBREV=US;ABBREV=USA:United States
URL;TYPE=Event Listing:https://estatesales.org/estate-sales/ca/glendale/91201/deals-on-all-remaining-items-2241371
PRIORITY:1
CLASS:PUBLIC
SEQUENCE:0
STATUS:CONFIRMED
TRANSP:OPAQUE
END:VEVENT
END:VCALENDAR
