BEGIN:VCALENDAR
VERSION:2.0
METHOD:PUBLISH
BEGIN:VEVENT
DTSTART:20231014T140000Z
DTEND:20231014T220000Z
LOCATION:Fort Atkinson, WI 53538
TRANSP: OPAQUE
SEQUENCE:0
UID:
DTSTAMP:20260424T200452Z
SUMMARY:Estate Sale #1 Fort Atkinson Sat 10/14
DESCRIPTION:Estate Sale #1 Fort Atkinson Sat 10/14 Barth Estate Sales & Services LLC 
UID:1777082692
STREET-ADDRESS:See website
POSTAL-CODE:53538
LOCALITY:Fort Atkinson
REGION:ABBREV=WI
COUNTRY:ABBREV=US;ABBREV=USA:United States
URL;TYPE=Event Listing:https://estatesales.org/estate-sales/wi/fort-atkinson/53538/estate-sale-1-fort-atkinson-2241561
PRIORITY:1
CLASS:PUBLIC
SEQUENCE:0
STATUS:CONFIRMED
TRANSP:OPAQUE
END:VEVENT
END:VCALENDAR
