BEGIN:VCALENDAR
VERSION:2.0
METHOD:PUBLISH
BEGIN:VEVENT
DTSTART:20221014T130000Z
DTEND:20221016T190000Z
LOCATION:Atlanta, GA 30342
TRANSP: OPAQUE
SEQUENCE:0
UID:
DTSTAMP:20260424T052720Z
SUMMARY:A Cosmopolitan Cache! Estate sale by Compassionate Transition
DESCRIPTION:A Cosmopolitan Cache! Estate sale by Compassionate Transition Compassionate Transition 
UID:1777030040
STREET-ADDRESS:See website
POSTAL-CODE:30342
LOCALITY:Atlanta
REGION:ABBREV=GA
COUNTRY:ABBREV=US;ABBREV=USA:United States
URL;TYPE=Event Listing:https://estatesales.org/estate-sales/ga/atlanta/30342/a-cosmopolitan-cache-estate-sale-2100301
PRIORITY:1
CLASS:PUBLIC
SEQUENCE:0
STATUS:CONFIRMED
TRANSP:OPAQUE
END:VEVENT
END:VCALENDAR
