BEGIN:VCALENDAR
VERSION:2.0
METHOD:PUBLISH
BEGIN:VEVENT
DTSTART:20211014T160000Z
DTEND:20211016T210000Z
LOCATION:Victorville, CA 92395
TRANSP: OPAQUE
SEQUENCE:0
UID:
DTSTAMP:20260425T055852Z
SUMMARY:MCM 💥 Vintage 💥 Contemporary 💥 Art Deco 💥 In the High Desert 🥑Spring Valley Lakes ( Victorville)
DESCRIPTION:MCM 💥 Vintage 💥 Contemporary 💥 Art Deco 💥 In the High Desert 🥑Spring Valley Lakes ( Victorville) Sweet Memories 
UID:1777118332
STREET-ADDRESS:See website
POSTAL-CODE:92395
LOCALITY:Victorville
REGION:ABBREV=CA
COUNTRY:ABBREV=US;ABBREV=USA:United States
URL;TYPE=Event Listing:https://estatesales.org/estate-sales/ca/victorville-/92395/mcm-vintage-contemporary-art-deco-1966589
PRIORITY:1
CLASS:PUBLIC
SEQUENCE:0
STATUS:CONFIRMED
TRANSP:OPAQUE
END:VEVENT
END:VCALENDAR
