BEGIN:VCALENDAR
VERSION:2.0
METHOD:PUBLISH
BEGIN:VEVENT
DTSTART:20201014T140000Z
DTEND:20201017T200000Z
LOCATION:Eustace, TX 75124
TRANSP: OPAQUE
SEQUENCE:0
UID:
DTSTAMP:20260424T215844Z
SUMMARY:Lakeside Estate Sales, LLC: Majestic Ranch House Estate Sale in Eustace, TX. 
DESCRIPTION:Lakeside Estate Sales, LLC: Majestic Ranch House Estate Sale in Eustace, TX.  Lakeside Estate Sales, CGL LLC. 
UID:1777089524
STREET-ADDRESS:See website
POSTAL-CODE:75124
LOCALITY:Eustace
REGION:ABBREV=TX
COUNTRY:ABBREV=US;ABBREV=USA:United States
URL;TYPE=Event Listing:https://estatesales.org/estate-sales/tx/eustace/75124/lakeside-estate-sales-llc-majestic-1818451
PRIORITY:1
CLASS:PUBLIC
SEQUENCE:0
STATUS:CONFIRMED
TRANSP:OPAQUE
END:VEVENT
END:VCALENDAR
