BEGIN:VCALENDAR
VERSION:2.0
METHOD:PUBLISH
BEGIN:VEVENT
DTSTART:20161014T150000Z
DTEND:20161015T200000Z
LOCATION:Saint Paul, MN 55127
TRANSP: OPAQUE
SEQUENCE:0
UID:
DTSTAMP:20260419T200815Z
SUMMARY:Fantastic Estate Sale in White Bear Township, MN 
DESCRIPTION:Fantastic Estate Sale in White Bear Township, MN  Caring Transitions Twin Cities East 
UID:1776650895
STREET-ADDRESS:See website
POSTAL-CODE:55127
LOCALITY:Saint Paul
REGION:ABBREV=MN
COUNTRY:ABBREV=US;ABBREV=USA:United States
URL;TYPE=Event Listing:https://estatesales.org/estate-sales/mn/saint-paul/55127/fantastic-estate-sale-in-white-1003503
PRIORITY:1
CLASS:PUBLIC
SEQUENCE:0
STATUS:CONFIRMED
TRANSP:OPAQUE
END:VEVENT
END:VCALENDAR
