BEGIN:VCALENDAR
VERSION:2.0
METHOD:PUBLISH
BEGIN:VEVENT
DTSTART:20161014T120000Z
DTEND:20161015T200000Z
LOCATION:Saint Louis, MO 63116
TRANSP: OPAQUE
SEQUENCE:0
UID:
DTSTAMP:20260419T105906Z
SUMMARY:Carondelet South City Estate Sale by Pennies In Your Pocket
DESCRIPTION:Carondelet South City Estate Sale by Pennies In Your Pocket Pennies In Your Pocket Estate Sale and Appraisal Services 
UID:1776617946
STREET-ADDRESS:See website
POSTAL-CODE:63116
LOCALITY:Saint Louis
REGION:ABBREV=MO
COUNTRY:ABBREV=US;ABBREV=USA:United States
URL;TYPE=Event Listing:https://estatesales.org/estate-sales/mo/saint-louis/63116/carondelet-south-city-estate-sale-1003155
PRIORITY:1
CLASS:PUBLIC
SEQUENCE:0
STATUS:CONFIRMED
TRANSP:OPAQUE
END:VEVENT
END:VCALENDAR
