BEGIN:VCALENDAR
VERSION:2.0
METHOD:PUBLISH
BEGIN:VEVENT
DTSTART:20231013T120000Z
DTEND:20231014T200000Z
LOCATION:Bella Vista, AR 72714
TRANSP: OPAQUE
SEQUENCE:0
UID:
DTSTAMP:20260422T022631Z
SUMMARY:Metfield Estate Sale
DESCRIPTION:Metfield Estate Sale Dollarhide Estate Sales - Estate & Moving Sale Services 
UID:1776846391
STREET-ADDRESS:See website
POSTAL-CODE:72714
LOCALITY:Bella Vista
REGION:ABBREV=AR
COUNTRY:ABBREV=US;ABBREV=USA:United States
URL;TYPE=Event Listing:https://estatesales.org/estate-sales/ar/bella-vista/72714/metfield-estate-sale-2241933
PRIORITY:1
CLASS:PUBLIC
SEQUENCE:0
STATUS:CONFIRMED
TRANSP:OPAQUE
END:VEVENT
END:VCALENDAR
