BEGIN:VCALENDAR
VERSION:2.0
METHOD:PUBLISH
BEGIN:VEVENT
DTSTART:20201013T224000Z
DTEND:20201018T180000Z
LOCATION:Washington, DC 20012
TRANSP: OPAQUE
SEQUENCE:0
UID:
DTSTAMP:20260421T153144Z
SUMMARY:Washington, DC Household Items & Flea Market Flippers Choice!
DESCRIPTION:Washington, DC Household Items & Flea Market Flippers Choice!
UID:1776807104
STREET-ADDRESS:See website
POSTAL-CODE:20012
LOCALITY:Washington
REGION:ABBREV=DC
COUNTRY:ABBREV=US;ABBREV=USA:United States
URL;TYPE=Event Listing:https://estatesales.org/estate-sales/dc/washington/20012/washington-dc-household-items-flea-1833581
PRIORITY:1
CLASS:PUBLIC
SEQUENCE:0
STATUS:CONFIRMED
TRANSP:OPAQUE
END:VEVENT
END:VCALENDAR
