BEGIN:VCALENDAR
VERSION:2.0
METHOD:PUBLISH
BEGIN:VEVENT
DTSTART:20221012T120000Z
DTEND:20221015T180000Z
LOCATION:Owasso, OK 74055
TRANSP: OPAQUE
SEQUENCE:0
UID:
DTSTAMP:20260419T182004Z
SUMMARY:Lots of collectibles and decor
DESCRIPTION:Lots of collectibles and decor Above and Beyond estate sales 
UID:1776644404
STREET-ADDRESS:See website
POSTAL-CODE:74055
LOCALITY:Owasso
REGION:ABBREV=OK
COUNTRY:ABBREV=US;ABBREV=USA:United States
URL;TYPE=Event Listing:https://estatesales.org/estate-sales/ok/owasso/74055/lots-of-collectibles-and-decor-2107185
PRIORITY:1
CLASS:PUBLIC
SEQUENCE:0
STATUS:CONFIRMED
TRANSP:OPAQUE
END:VEVENT
END:VCALENDAR
