BEGIN:VCALENDAR
VERSION:2.0
METHOD:PUBLISH
BEGIN:VEVENT
DTSTART:20201012T170000Z
DTEND:20201012T200000Z
LOCATION:Eagle, ID 83616
TRANSP: OPAQUE
SEQUENCE:0
UID:
DTSTAMP:20260419T213302Z
SUMMARY:Massive Discount Bonus Day: 75% Off
DESCRIPTION:Massive Discount Bonus Day: 75% Off Guardian Estate Solutions, LLC. 
UID:1776655982
STREET-ADDRESS:See website
POSTAL-CODE:83616
LOCALITY:Eagle
REGION:ABBREV=ID
COUNTRY:ABBREV=US;ABBREV=USA:United States
URL;TYPE=Event Listing:https://estatesales.org/estate-sales/id/eagle/83616/massive-discount-bonus-day-75-1834971
PRIORITY:1
CLASS:PUBLIC
SEQUENCE:0
STATUS:CONFIRMED
TRANSP:OPAQUE
END:VEVENT
END:VCALENDAR
