BEGIN:VCALENDAR
VERSION:2.0
METHOD:PUBLISH
BEGIN:VEVENT
DTSTART:20191012T150000Z
DTEND:20191016T220000Z
LOCATION:Wichita, KS 67206
TRANSP: OPAQUE
SEQUENCE:0
UID:
DTSTAMP:20260419T234838Z
SUMMARY:AFFILIATED ESTATE SALES-7515 Tanglewood
DESCRIPTION:AFFILIATED ESTATE SALES-7515 Tanglewood AFFILIATED ESTATE SALES 
UID:1776664118
STREET-ADDRESS:See website
POSTAL-CODE:67206
LOCALITY:Wichita
REGION:ABBREV=KS
COUNTRY:ABBREV=US;ABBREV=USA:United States
URL;TYPE=Event Listing:https://estatesales.org/estate-sales/ks/wichita/67206/affiliated-estate-sales7515-tanglewood-1727009
PRIORITY:1
CLASS:PUBLIC
SEQUENCE:0
STATUS:CONFIRMED
TRANSP:OPAQUE
END:VEVENT
END:VCALENDAR
