BEGIN:VCALENDAR
VERSION:2.0
METHOD:PUBLISH
BEGIN:VEVENT
DTSTART:20131012T170000Z
DTEND:20131013T220000Z
LOCATION:Oakland, CA 94612
TRANSP: OPAQUE
SEQUENCE:0
UID:
DTSTAMP:20260424T121953Z
SUMMARY:OAKLAND HUGE SALE PART 2
DESCRIPTION:OAKLAND HUGE SALE PART 2 S&S ESTATE SALES 
UID:1777054793
STREET-ADDRESS:See website
POSTAL-CODE:94612
LOCALITY:Oakland
REGION:ABBREV=CA
COUNTRY:ABBREV=US;ABBREV=USA:United States
URL;TYPE=Event Listing:https://estatesales.org/estate-sales/ca/oakland/94612/oakland-huge-sale-part-2-332246
PRIORITY:1
CLASS:PUBLIC
SEQUENCE:0
STATUS:CONFIRMED
TRANSP:OPAQUE
END:VEVENT
END:VCALENDAR
